BEGIN:VCALENDAR
VERSION:2.0
PRODID:-//Destin Condo Rentals - ECPv6.5.1//NONSGML v1.0//EN
CALSCALE:GREGORIAN
METHOD:PUBLISH
X-WR-CALNAME:Destin Condo Rentals
X-ORIGINAL-URL:https://www.destincondorent.com
X-WR-CALDESC:Events for Destin Condo Rentals
REFRESH-INTERVAL;VALUE=DURATION:PT1H
X-Robots-Tag:noindex
X-PUBLISHED-TTL:PT1H
BEGIN:VTIMEZONE
TZID:UTC
BEGIN:STANDARD
TZOFFSETFROM:+0000
TZOFFSETTO:+0000
TZNAME:UTC
DTSTART:20240101T000000
END:STANDARD
END:VTIMEZONE
BEGIN:VEVENT
DTSTART;TZID=UTC:20240425T210000
DTEND;TZID=UTC:20240428T020000
DTSTAMP:20260424T124901
CREATED:20231212T052313Z
LAST-MODIFIED:20231212T052448Z
UID:10000351-1714078800-1714269600@www.destincondorent.com
SUMMARY:Lauren Daigle's "Kaleidoscope Beach Weekend"
DESCRIPTION:Join us for a weekend of unforgettable melodies and beachside vibes as Lauren Daigle takes the stage at Lauren Daigle’s Kaleidoscope Weekend! \nExperience the power of faith and music with Lauren Daigle. Worship and soul-stirring melodies. Prepare for unexpected delights as special guests join the show each evening. Lauren will be playing all 3 nights!
URL:https://www.destincondorent.com/event/lauren-daigles-kaleidoscope-beach-weekend/
LOCATION:Seascape Resort Events\, 556 Seascape Drive\, Destin\, FL\, 32550\, United States
ATTACH;FMTTYPE=image/jpeg:https://www.destincondorent.com/wp-content/uploads/2023/12/3847_image_379741854_685961556898666_1162638367785575818_n.jpg
END:VEVENT
BEGIN:VEVENT
DTSTART;TZID=UTC:20240418T160000
DTEND;TZID=UTC:20240421T190000
DTSTAMP:20260424T124901
CREATED:20240301T044825Z
LAST-MODIFIED:20240301T044825Z
UID:10000474-1713456000-1713726000@www.destincondorent.com
SUMMARY:Moon Crush “Pink Moon” ’24
DESCRIPTION:Moon Crush is a place where friends and family can enjoy beautiful beaches\, amazing live music\, and – most importantly – time together in the sun and under the stars. \nMoon Crush is intentionally designed to be a Music Vacation – not a festival. You can plan on spending days at the beach\, by the pool\, or enjoying your favorite activities with the people you care about most
URL:https://www.destincondorent.com/event/moon-crush-pink-moon-24/
LOCATION:Seascape Resort Events\, 556 Seascape Drive\, Destin\, FL\, 32550\, United States
END:VEVENT
BEGIN:VEVENT
DTSTART;TZID=UTC:20240331T170000
DTEND;TZID=UTC:20240331T210000
DTSTAMP:20260424T124901
CREATED:20240301T044045Z
LAST-MODIFIED:20240301T044045Z
UID:10000473-1711904400-1711918800@www.destincondorent.com
SUMMARY:Seascape SeaLights Festival
DESCRIPTION:From February to March\, Seascape Resort will undergo a transformation into an extraordinary world of illumination. This will feature over 1\,000 handcrafted Chinese lanterns and lights\, guaranteeing an unforgettable experience. \nVenue & Schedule: \nLocation: Seascape Golf\, Beach & Tennis Resort\, Miramar Beach\nDates: February 1\, 2023 – March 31\, 2024\nHours of Operation: Thursday to Sunday\, 5 PM – 9 PM
URL:https://www.destincondorent.com/event/seascape-sealights-festival/2024-03-31/
LOCATION:Seascape Resort Events\, 556 Seascape Drive\, Destin\, FL\, 32550\, United States
ATTACH;FMTTYPE=image/jpeg:https://www.destincondorent.com/wp-content/uploads/2024/03/seascape.jpg
END:VEVENT
BEGIN:VEVENT
DTSTART;TZID=UTC:20240330T170000
DTEND;TZID=UTC:20240330T210000
DTSTAMP:20260424T124901
CREATED:20240301T044045Z
LAST-MODIFIED:20240301T044045Z
UID:10000472-1711818000-1711832400@www.destincondorent.com
SUMMARY:Seascape SeaLights Festival
DESCRIPTION:From February to March\, Seascape Resort will undergo a transformation into an extraordinary world of illumination. This will feature over 1\,000 handcrafted Chinese lanterns and lights\, guaranteeing an unforgettable experience. \nVenue & Schedule: \nLocation: Seascape Golf\, Beach & Tennis Resort\, Miramar Beach\nDates: February 1\, 2023 – March 31\, 2024\nHours of Operation: Thursday to Sunday\, 5 PM – 9 PM
URL:https://www.destincondorent.com/event/seascape-sealights-festival/2024-03-30/
LOCATION:Seascape Resort Events\, 556 Seascape Drive\, Destin\, FL\, 32550\, United States
ATTACH;FMTTYPE=image/jpeg:https://www.destincondorent.com/wp-content/uploads/2024/03/seascape.jpg
END:VEVENT
BEGIN:VEVENT
DTSTART;TZID=UTC:20240329T170000
DTEND;TZID=UTC:20240329T210000
DTSTAMP:20260424T124901
CREATED:20240301T044045Z
LAST-MODIFIED:20240301T044045Z
UID:10000471-1711731600-1711746000@www.destincondorent.com
SUMMARY:Seascape SeaLights Festival
DESCRIPTION:From February to March\, Seascape Resort will undergo a transformation into an extraordinary world of illumination. This will feature over 1\,000 handcrafted Chinese lanterns and lights\, guaranteeing an unforgettable experience. \nVenue & Schedule: \nLocation: Seascape Golf\, Beach & Tennis Resort\, Miramar Beach\nDates: February 1\, 2023 – March 31\, 2024\nHours of Operation: Thursday to Sunday\, 5 PM – 9 PM
URL:https://www.destincondorent.com/event/seascape-sealights-festival/2024-03-29/
LOCATION:Seascape Resort Events\, 556 Seascape Drive\, Destin\, FL\, 32550\, United States
ATTACH;FMTTYPE=image/jpeg:https://www.destincondorent.com/wp-content/uploads/2024/03/seascape.jpg
END:VEVENT
BEGIN:VEVENT
DTSTART;TZID=UTC:20240328T170000
DTEND;TZID=UTC:20240328T210000
DTSTAMP:20260424T124901
CREATED:20240301T044045Z
LAST-MODIFIED:20240301T044045Z
UID:10000470-1711645200-1711659600@www.destincondorent.com
SUMMARY:Seascape SeaLights Festival
DESCRIPTION:From February to March\, Seascape Resort will undergo a transformation into an extraordinary world of illumination. This will feature over 1\,000 handcrafted Chinese lanterns and lights\, guaranteeing an unforgettable experience. \nVenue & Schedule: \nLocation: Seascape Golf\, Beach & Tennis Resort\, Miramar Beach\nDates: February 1\, 2023 – March 31\, 2024\nHours of Operation: Thursday to Sunday\, 5 PM – 9 PM
URL:https://www.destincondorent.com/event/seascape-sealights-festival/2024-03-28/
LOCATION:Seascape Resort Events\, 556 Seascape Drive\, Destin\, FL\, 32550\, United States
ATTACH;FMTTYPE=image/jpeg:https://www.destincondorent.com/wp-content/uploads/2024/03/seascape.jpg
END:VEVENT
BEGIN:VEVENT
DTSTART;TZID=UTC:20240324T170000
DTEND;TZID=UTC:20240324T210000
DTSTAMP:20260424T124901
CREATED:20240301T044045Z
LAST-MODIFIED:20240301T044045Z
UID:10000469-1711299600-1711314000@www.destincondorent.com
SUMMARY:Seascape SeaLights Festival
DESCRIPTION:From February to March\, Seascape Resort will undergo a transformation into an extraordinary world of illumination. This will feature over 1\,000 handcrafted Chinese lanterns and lights\, guaranteeing an unforgettable experience. \nVenue & Schedule: \nLocation: Seascape Golf\, Beach & Tennis Resort\, Miramar Beach\nDates: February 1\, 2023 – March 31\, 2024\nHours of Operation: Thursday to Sunday\, 5 PM – 9 PM
URL:https://www.destincondorent.com/event/seascape-sealights-festival/2024-03-24/
LOCATION:Seascape Resort Events\, 556 Seascape Drive\, Destin\, FL\, 32550\, United States
ATTACH;FMTTYPE=image/jpeg:https://www.destincondorent.com/wp-content/uploads/2024/03/seascape.jpg
END:VEVENT
BEGIN:VEVENT
DTSTART;TZID=UTC:20240323T170000
DTEND;TZID=UTC:20240323T210000
DTSTAMP:20260424T124901
CREATED:20240301T044045Z
LAST-MODIFIED:20240301T044045Z
UID:10000468-1711213200-1711227600@www.destincondorent.com
SUMMARY:Seascape SeaLights Festival
DESCRIPTION:From February to March\, Seascape Resort will undergo a transformation into an extraordinary world of illumination. This will feature over 1\,000 handcrafted Chinese lanterns and lights\, guaranteeing an unforgettable experience. \nVenue & Schedule: \nLocation: Seascape Golf\, Beach & Tennis Resort\, Miramar Beach\nDates: February 1\, 2023 – March 31\, 2024\nHours of Operation: Thursday to Sunday\, 5 PM – 9 PM
URL:https://www.destincondorent.com/event/seascape-sealights-festival/2024-03-23/
LOCATION:Seascape Resort Events\, 556 Seascape Drive\, Destin\, FL\, 32550\, United States
ATTACH;FMTTYPE=image/jpeg:https://www.destincondorent.com/wp-content/uploads/2024/03/seascape.jpg
END:VEVENT
BEGIN:VEVENT
DTSTART;TZID=UTC:20240322T170000
DTEND;TZID=UTC:20240322T210000
DTSTAMP:20260424T124901
CREATED:20240301T044045Z
LAST-MODIFIED:20240301T044045Z
UID:10000467-1711126800-1711141200@www.destincondorent.com
SUMMARY:Seascape SeaLights Festival
DESCRIPTION:From February to March\, Seascape Resort will undergo a transformation into an extraordinary world of illumination. This will feature over 1\,000 handcrafted Chinese lanterns and lights\, guaranteeing an unforgettable experience. \nVenue & Schedule: \nLocation: Seascape Golf\, Beach & Tennis Resort\, Miramar Beach\nDates: February 1\, 2023 – March 31\, 2024\nHours of Operation: Thursday to Sunday\, 5 PM – 9 PM
URL:https://www.destincondorent.com/event/seascape-sealights-festival/2024-03-22/
LOCATION:Seascape Resort Events\, 556 Seascape Drive\, Destin\, FL\, 32550\, United States
ATTACH;FMTTYPE=image/jpeg:https://www.destincondorent.com/wp-content/uploads/2024/03/seascape.jpg
END:VEVENT
BEGIN:VEVENT
DTSTART;TZID=UTC:20240321T170000
DTEND;TZID=UTC:20240321T210000
DTSTAMP:20260424T124901
CREATED:20240301T044045Z
LAST-MODIFIED:20240301T044045Z
UID:10000466-1711040400-1711054800@www.destincondorent.com
SUMMARY:Seascape SeaLights Festival
DESCRIPTION:From February to March\, Seascape Resort will undergo a transformation into an extraordinary world of illumination. This will feature over 1\,000 handcrafted Chinese lanterns and lights\, guaranteeing an unforgettable experience. \nVenue & Schedule: \nLocation: Seascape Golf\, Beach & Tennis Resort\, Miramar Beach\nDates: February 1\, 2023 – March 31\, 2024\nHours of Operation: Thursday to Sunday\, 5 PM – 9 PM
URL:https://www.destincondorent.com/event/seascape-sealights-festival/2024-03-21/
LOCATION:Seascape Resort Events\, 556 Seascape Drive\, Destin\, FL\, 32550\, United States
ATTACH;FMTTYPE=image/jpeg:https://www.destincondorent.com/wp-content/uploads/2024/03/seascape.jpg
END:VEVENT
BEGIN:VEVENT
DTSTART;TZID=UTC:20240317T170000
DTEND;TZID=UTC:20240317T210000
DTSTAMP:20260424T124901
CREATED:20240301T044045Z
LAST-MODIFIED:20240301T044045Z
UID:10000465-1710694800-1710709200@www.destincondorent.com
SUMMARY:Seascape SeaLights Festival
DESCRIPTION:From February to March\, Seascape Resort will undergo a transformation into an extraordinary world of illumination. This will feature over 1\,000 handcrafted Chinese lanterns and lights\, guaranteeing an unforgettable experience. \nVenue & Schedule: \nLocation: Seascape Golf\, Beach & Tennis Resort\, Miramar Beach\nDates: February 1\, 2023 – March 31\, 2024\nHours of Operation: Thursday to Sunday\, 5 PM – 9 PM
URL:https://www.destincondorent.com/event/seascape-sealights-festival/2024-03-17/
LOCATION:Seascape Resort Events\, 556 Seascape Drive\, Destin\, FL\, 32550\, United States
ATTACH;FMTTYPE=image/jpeg:https://www.destincondorent.com/wp-content/uploads/2024/03/seascape.jpg
END:VEVENT
BEGIN:VEVENT
DTSTART;TZID=UTC:20240316T170000
DTEND;TZID=UTC:20240316T210000
DTSTAMP:20260424T124901
CREATED:20240301T044045Z
LAST-MODIFIED:20240301T044045Z
UID:10000464-1710608400-1710622800@www.destincondorent.com
SUMMARY:Seascape SeaLights Festival
DESCRIPTION:From February to March\, Seascape Resort will undergo a transformation into an extraordinary world of illumination. This will feature over 1\,000 handcrafted Chinese lanterns and lights\, guaranteeing an unforgettable experience. \nVenue & Schedule: \nLocation: Seascape Golf\, Beach & Tennis Resort\, Miramar Beach\nDates: February 1\, 2023 – March 31\, 2024\nHours of Operation: Thursday to Sunday\, 5 PM – 9 PM
URL:https://www.destincondorent.com/event/seascape-sealights-festival/2024-03-16/
LOCATION:Seascape Resort Events\, 556 Seascape Drive\, Destin\, FL\, 32550\, United States
ATTACH;FMTTYPE=image/jpeg:https://www.destincondorent.com/wp-content/uploads/2024/03/seascape.jpg
END:VEVENT
BEGIN:VEVENT
DTSTART;TZID=UTC:20240315T170000
DTEND;TZID=UTC:20240315T210000
DTSTAMP:20260424T124901
CREATED:20240301T044045Z
LAST-MODIFIED:20240301T044045Z
UID:10000463-1710522000-1710536400@www.destincondorent.com
SUMMARY:Seascape SeaLights Festival
DESCRIPTION:From February to March\, Seascape Resort will undergo a transformation into an extraordinary world of illumination. This will feature over 1\,000 handcrafted Chinese lanterns and lights\, guaranteeing an unforgettable experience. \nVenue & Schedule: \nLocation: Seascape Golf\, Beach & Tennis Resort\, Miramar Beach\nDates: February 1\, 2023 – March 31\, 2024\nHours of Operation: Thursday to Sunday\, 5 PM – 9 PM
URL:https://www.destincondorent.com/event/seascape-sealights-festival/2024-03-15/
LOCATION:Seascape Resort Events\, 556 Seascape Drive\, Destin\, FL\, 32550\, United States
ATTACH;FMTTYPE=image/jpeg:https://www.destincondorent.com/wp-content/uploads/2024/03/seascape.jpg
END:VEVENT
BEGIN:VEVENT
DTSTART;TZID=UTC:20240314T170000
DTEND;TZID=UTC:20240314T210000
DTSTAMP:20260424T124901
CREATED:20240301T044045Z
LAST-MODIFIED:20240301T044045Z
UID:10000462-1710435600-1710450000@www.destincondorent.com
SUMMARY:Seascape SeaLights Festival
DESCRIPTION:From February to March\, Seascape Resort will undergo a transformation into an extraordinary world of illumination. This will feature over 1\,000 handcrafted Chinese lanterns and lights\, guaranteeing an unforgettable experience. \nVenue & Schedule: \nLocation: Seascape Golf\, Beach & Tennis Resort\, Miramar Beach\nDates: February 1\, 2023 – March 31\, 2024\nHours of Operation: Thursday to Sunday\, 5 PM – 9 PM
URL:https://www.destincondorent.com/event/seascape-sealights-festival/2024-03-14/
LOCATION:Seascape Resort Events\, 556 Seascape Drive\, Destin\, FL\, 32550\, United States
ATTACH;FMTTYPE=image/jpeg:https://www.destincondorent.com/wp-content/uploads/2024/03/seascape.jpg
END:VEVENT
BEGIN:VEVENT
DTSTART;TZID=UTC:20240310T170000
DTEND;TZID=UTC:20240310T210000
DTSTAMP:20260424T124901
CREATED:20240301T044045Z
LAST-MODIFIED:20240301T044045Z
UID:10000461-1710090000-1710104400@www.destincondorent.com
SUMMARY:Seascape SeaLights Festival
DESCRIPTION:From February to March\, Seascape Resort will undergo a transformation into an extraordinary world of illumination. This will feature over 1\,000 handcrafted Chinese lanterns and lights\, guaranteeing an unforgettable experience. \nVenue & Schedule: \nLocation: Seascape Golf\, Beach & Tennis Resort\, Miramar Beach\nDates: February 1\, 2023 – March 31\, 2024\nHours of Operation: Thursday to Sunday\, 5 PM – 9 PM
URL:https://www.destincondorent.com/event/seascape-sealights-festival/2024-03-10/
LOCATION:Seascape Resort Events\, 556 Seascape Drive\, Destin\, FL\, 32550\, United States
ATTACH;FMTTYPE=image/jpeg:https://www.destincondorent.com/wp-content/uploads/2024/03/seascape.jpg
END:VEVENT
BEGIN:VEVENT
DTSTART;TZID=UTC:20240309T170000
DTEND;TZID=UTC:20240309T210000
DTSTAMP:20260424T124901
CREATED:20240301T044045Z
LAST-MODIFIED:20240301T044045Z
UID:10000460-1710003600-1710018000@www.destincondorent.com
SUMMARY:Seascape SeaLights Festival
DESCRIPTION:From February to March\, Seascape Resort will undergo a transformation into an extraordinary world of illumination. This will feature over 1\,000 handcrafted Chinese lanterns and lights\, guaranteeing an unforgettable experience. \nVenue & Schedule: \nLocation: Seascape Golf\, Beach & Tennis Resort\, Miramar Beach\nDates: February 1\, 2023 – March 31\, 2024\nHours of Operation: Thursday to Sunday\, 5 PM – 9 PM
URL:https://www.destincondorent.com/event/seascape-sealights-festival/2024-03-09/
LOCATION:Seascape Resort Events\, 556 Seascape Drive\, Destin\, FL\, 32550\, United States
ATTACH;FMTTYPE=image/jpeg:https://www.destincondorent.com/wp-content/uploads/2024/03/seascape.jpg
END:VEVENT
BEGIN:VEVENT
DTSTART;TZID=UTC:20240308T170000
DTEND;TZID=UTC:20240308T210000
DTSTAMP:20260424T124901
CREATED:20240301T044045Z
LAST-MODIFIED:20240301T044045Z
UID:10000459-1709917200-1709931600@www.destincondorent.com
SUMMARY:Seascape SeaLights Festival
DESCRIPTION:From February to March\, Seascape Resort will undergo a transformation into an extraordinary world of illumination. This will feature over 1\,000 handcrafted Chinese lanterns and lights\, guaranteeing an unforgettable experience. \nVenue & Schedule: \nLocation: Seascape Golf\, Beach & Tennis Resort\, Miramar Beach\nDates: February 1\, 2023 – March 31\, 2024\nHours of Operation: Thursday to Sunday\, 5 PM – 9 PM
URL:https://www.destincondorent.com/event/seascape-sealights-festival/2024-03-08/
LOCATION:Seascape Resort Events\, 556 Seascape Drive\, Destin\, FL\, 32550\, United States
ATTACH;FMTTYPE=image/jpeg:https://www.destincondorent.com/wp-content/uploads/2024/03/seascape.jpg
END:VEVENT
BEGIN:VEVENT
DTSTART;TZID=UTC:20240307T170000
DTEND;TZID=UTC:20240307T210000
DTSTAMP:20260424T124901
CREATED:20240301T044045Z
LAST-MODIFIED:20240301T044045Z
UID:10000458-1709830800-1709845200@www.destincondorent.com
SUMMARY:Seascape SeaLights Festival
DESCRIPTION:From February to March\, Seascape Resort will undergo a transformation into an extraordinary world of illumination. This will feature over 1\,000 handcrafted Chinese lanterns and lights\, guaranteeing an unforgettable experience. \nVenue & Schedule: \nLocation: Seascape Golf\, Beach & Tennis Resort\, Miramar Beach\nDates: February 1\, 2023 – March 31\, 2024\nHours of Operation: Thursday to Sunday\, 5 PM – 9 PM
URL:https://www.destincondorent.com/event/seascape-sealights-festival/2024-03-07/
LOCATION:Seascape Resort Events\, 556 Seascape Drive\, Destin\, FL\, 32550\, United States
ATTACH;FMTTYPE=image/jpeg:https://www.destincondorent.com/wp-content/uploads/2024/03/seascape.jpg
END:VEVENT
BEGIN:VEVENT
DTSTART;TZID=UTC:20240303T170000
DTEND;TZID=UTC:20240303T210000
DTSTAMP:20260424T124901
CREATED:20240301T044045Z
LAST-MODIFIED:20240301T044045Z
UID:10000457-1709485200-1709499600@www.destincondorent.com
SUMMARY:Seascape SeaLights Festival
DESCRIPTION:From February to March\, Seascape Resort will undergo a transformation into an extraordinary world of illumination. This will feature over 1\,000 handcrafted Chinese lanterns and lights\, guaranteeing an unforgettable experience. \nVenue & Schedule: \nLocation: Seascape Golf\, Beach & Tennis Resort\, Miramar Beach\nDates: February 1\, 2023 – March 31\, 2024\nHours of Operation: Thursday to Sunday\, 5 PM – 9 PM
URL:https://www.destincondorent.com/event/seascape-sealights-festival/2024-03-03/
LOCATION:Seascape Resort Events\, 556 Seascape Drive\, Destin\, FL\, 32550\, United States
ATTACH;FMTTYPE=image/jpeg:https://www.destincondorent.com/wp-content/uploads/2024/03/seascape.jpg
END:VEVENT
BEGIN:VEVENT
DTSTART;TZID=UTC:20240302T170000
DTEND;TZID=UTC:20240302T210000
DTSTAMP:20260424T124901
CREATED:20240301T044045Z
LAST-MODIFIED:20240301T044045Z
UID:10000456-1709398800-1709413200@www.destincondorent.com
SUMMARY:Seascape SeaLights Festival
DESCRIPTION:From February to March\, Seascape Resort will undergo a transformation into an extraordinary world of illumination. This will feature over 1\,000 handcrafted Chinese lanterns and lights\, guaranteeing an unforgettable experience. \nVenue & Schedule: \nLocation: Seascape Golf\, Beach & Tennis Resort\, Miramar Beach\nDates: February 1\, 2023 – March 31\, 2024\nHours of Operation: Thursday to Sunday\, 5 PM – 9 PM
URL:https://www.destincondorent.com/event/seascape-sealights-festival/2024-03-02/
LOCATION:Seascape Resort Events\, 556 Seascape Drive\, Destin\, FL\, 32550\, United States
ATTACH;FMTTYPE=image/jpeg:https://www.destincondorent.com/wp-content/uploads/2024/03/seascape.jpg
END:VEVENT
BEGIN:VEVENT
DTSTART;TZID=UTC:20240301T170000
DTEND;TZID=UTC:20240301T210000
DTSTAMP:20260424T124901
CREATED:20240301T044045Z
LAST-MODIFIED:20240301T044045Z
UID:10000455-1709312400-1709326800@www.destincondorent.com
SUMMARY:Seascape SeaLights Festival
DESCRIPTION:From February to March\, Seascape Resort will undergo a transformation into an extraordinary world of illumination. This will feature over 1\,000 handcrafted Chinese lanterns and lights\, guaranteeing an unforgettable experience. \nVenue & Schedule: \nLocation: Seascape Golf\, Beach & Tennis Resort\, Miramar Beach\nDates: February 1\, 2023 – March 31\, 2024\nHours of Operation: Thursday to Sunday\, 5 PM – 9 PM
URL:https://www.destincondorent.com/event/seascape-sealights-festival/2024-03-01/
LOCATION:Seascape Resort Events\, 556 Seascape Drive\, Destin\, FL\, 32550\, United States
ATTACH;FMTTYPE=image/jpeg:https://www.destincondorent.com/wp-content/uploads/2024/03/seascape.jpg
END:VEVENT
END:VCALENDAR