BEGIN:VCALENDAR
VERSION:2.0
PRODID:-//Destin Condo Rentals - ECPv6.5.1//NONSGML v1.0//EN
CALSCALE:GREGORIAN
METHOD:PUBLISH
X-ORIGINAL-URL:https://www.destincondorent.com
X-WR-CALDESC:Events for Destin Condo Rentals
REFRESH-INTERVAL;VALUE=DURATION:PT1H
X-Robots-Tag:noindex
X-PUBLISHED-TTL:PT1H
BEGIN:VTIMEZONE
TZID:UTC
BEGIN:STANDARD
TZOFFSETFROM:+0000
TZOFFSETTO:+0000
TZNAME:UTC
DTSTART:20240101T000000
END:STANDARD
END:VTIMEZONE
BEGIN:VEVENT
DTSTART;TZID=UTC:20240719T230000
DTEND;TZID=UTC:20240719T230000
DTSTAMP:20260421T115313
CREATED:20240302T045557Z
LAST-MODIFIED:20240303T203636Z
UID:10000615-1721430000-1721430000@www.destincondorent.com
SUMMARY:Eden Sher: I Was On A Sitcom at Club LA
DESCRIPTION:To see a large version of the seating chart go here: https://irp.cdn-website.com/6f06eb1e/dms3rep/multi/New2024+Seating+Chart+Club+LA+copy.jpg \nSale Dates and Times: \nPublic Onsale : Tue\, 20 Feb 2024 at 10:00 AM
URL:https://www.destincondorent.com/event/eden-sher-i-was-on-a-sitcom-at-club-la/
LOCATION:Club L.A. Destin\, 34876 Emerald Coast Pkwy\, Destin\, FL\, 32541\, United States
ATTACH;FMTTYPE=image/jpeg:https://www.destincondorent.com/wp-content/uploads/2024/03/5031_image_409012215_813237524176428_3569806320355472006_n.jpg
END:VEVENT
BEGIN:VEVENT
DTSTART;TZID=UTC:20240415T000000
DTEND;TZID=UTC:20240415T000000
DTSTAMP:20260421T115313
CREATED:20240302T045715Z
LAST-MODIFIED:20240303T203653Z
UID:10000616-1713139200-1713139200@www.destincondorent.com
SUMMARY:Red NOT Chili Peppers
DESCRIPTION:This event is partially seated.To see a large version of the seating chart go here: https://irp.cdn-website.com/6f06eb1e/dms3rep/multi/New2024-2+Seating+Chart+Club+LA+copy.jpg \nSale Dates and Times: \nPublic Onsale : Thu\, 25 Jan 2024 at 12:00 AM
URL:https://www.destincondorent.com/event/red-not-chili-peppers/
LOCATION:Club L.A. Destin\, 34876 Emerald Coast Pkwy\, Destin\, FL\, 32541\, United States
ATTACH;FMTTYPE=image/jpeg:https://www.destincondorent.com/wp-content/uploads/2024/03/5034_image_422430644_10163330311789447_2416467599265242987_n.jpg
END:VEVENT
BEGIN:VEVENT
DTSTART;TZID=UTC:20240407T000000
DTEND;TZID=UTC:20240407T000000
DTSTAMP:20260421T115313
CREATED:20240302T045555Z
LAST-MODIFIED:20240303T203705Z
UID:10000614-1712448000-1712448000@www.destincondorent.com
SUMMARY:Pat Benatar Tribute: Heartbreaker
DESCRIPTION:This event is partially seated.To see a large version of the seating chart go here: https://irp.cdn-website.com/6f06eb1e/dms3rep/multi/New2024-2+Seating+Chart+Club+LA+copy.jpg \nSale Dates and Times: \nPublic Onsale : Sat\, 20 Jan 2024 at 12:00 AM
URL:https://www.destincondorent.com/event/pat-benatar-tribute-heartbreaker/
LOCATION:Club L.A. Destin\, 34876 Emerald Coast Pkwy\, Destin\, FL\, 32541\, United States
ATTACH;FMTTYPE=image/jpeg:https://www.destincondorent.com/wp-content/uploads/2024/03/5029_image_421018245_10163321178994447_1934054862444955313_n.jpg
END:VEVENT
BEGIN:VEVENT
DTSTART;TZID=UTC:20240318T000000
DTEND;TZID=UTC:20240318T000000
DTSTAMP:20260421T115313
CREATED:20240302T045549Z
LAST-MODIFIED:20240303T203644Z
UID:10000612-1710720000-1710720000@www.destincondorent.com
SUMMARY:Adelitas Way at Club LA
DESCRIPTION:99Rock & Ember South Entertainment Present \nAdelitas Way\nw/ Classless Act\, Love The Hate and Kamenar \nClub LA | Destin\, FL\nSunday\, March 17th\, 2024\nDoors 6PM | Show 7PM | Ages 16+ \nThis event is partially seated. To see a large version of the seating chart go here: https://irp.cdn-website.com/6f06eb1e/dms3rep/multi/New2024-2+Seating+Chart+Club+LA+copy.jpg
URL:https://www.destincondorent.com/event/adelitas-way-at-club-la/
LOCATION:Club L.A. Destin\, 34876 Emerald Coast Pkwy\, Destin\, FL\, 32541\, United States
ATTACH;FMTTYPE=image/jpeg:https://www.destincondorent.com/wp-content/uploads/2024/03/5025_image_420201418_122133172142046937_4367889939022378477_n.jpg
END:VEVENT
BEGIN:VEVENT
DTSTART;TZID=UTC:20240316T000000
DTEND;TZID=UTC:20240316T000000
DTSTAMP:20260421T115313
CREATED:20240302T045553Z
LAST-MODIFIED:20240303T203712Z
UID:10000613-1710547200-1710547200@www.destincondorent.com
SUMMARY:Guardians of The Jukebox
DESCRIPTION:This event is partially seated.To see a large version of the seating chart go here: https://irp.cdn-website.com/6f06eb1e/dms3rep/multi/New2024-2+Seating+Chart+Club+LA+copy.jpg \nSale Dates and Times: \nPublic Onsale : Tue\, 19 Dec 2023 at 10:00 AM
URL:https://www.destincondorent.com/event/guardians-of-the-jukebox/
LOCATION:Club L.A. Destin\, 34876 Emerald Coast Pkwy\, Destin\, FL\, 32541\, United States
ATTACH;FMTTYPE=image/jpeg:https://www.destincondorent.com/wp-content/uploads/2024/03/5027_image_412309572_10163262891594447_7697983674315341435_n.jpg
END:VEVENT
BEGIN:VEVENT
DTSTART;TZID=UTC:20240127T020000
DTEND;TZID=UTC:20240127T020000
DTSTAMP:20260421T115313
CREATED:20240114T175436Z
LAST-MODIFIED:20240307T060851Z
UID:10000355-1706320800-1706320800@www.destincondorent.com
SUMMARY:Pygmies in Destin FL
DESCRIPTION:Music event in Destin\, FL by The Velcro Pygmies
URL:https://www.destincondorent.com/event/pygmies-in-destin-fl/
LOCATION:Club L.A. Destin\, 34876 Emerald Coast Pkwy\, Destin\, FL\, 32541\, United States
ATTACH;FMTTYPE=image/jpeg:https://www.destincondorent.com/wp-content/uploads/2024/01/3913_image_414850004_969809001173205_5000315491867645421_n.jpg
END:VEVENT
END:VCALENDAR