BEGIN:VCALENDAR
VERSION:2.0
PRODID:-//Destin Condo Rentals - ECPv6.5.1//NONSGML v1.0//EN
CALSCALE:GREGORIAN
METHOD:PUBLISH
X-WR-CALNAME:Destin Condo Rentals
X-ORIGINAL-URL:https://www.destincondorent.com
X-WR-CALDESC:Events for Destin Condo Rentals
REFRESH-INTERVAL;VALUE=DURATION:PT1H
X-Robots-Tag:noindex
X-PUBLISHED-TTL:PT1H
BEGIN:VTIMEZONE
TZID:UTC
BEGIN:STANDARD
TZOFFSETFROM:+0000
TZOFFSETTO:+0000
TZNAME:UTC
DTSTART:20200101T000000
END:STANDARD
END:VTIMEZONE
BEGIN:VEVENT
DTSTART;TZID=UTC:20200321T090000
DTEND;TZID=UTC:20200321T120000
DTSTAMP:20260425T125205
CREATED:20200226T001553Z
LAST-MODIFIED:20200226T001553Z
UID:10000081-1584781200-1584792000@www.destincondorent.com
SUMMARY:8th Annual Run For The Health Of It 5K/8K
DESCRIPTION:The White-Wilson Community Foundation will host the 8th Annual Run for the Health of It 5K/8K on Saturday\, March 21st. Participants will take off at 9 a.m. Runners and walkers of all ability levels are invited to participate. Both the race and the after-party are stroller and dog friendly! \nThe race will be followed by an after party at AJ’s Oyster Shanty. Participants will enjoy a delicious food and beverages. There will be children’s activities including a bounce house\, face painting and art stations. Awards will be given for the top three finishers from each 10-year age group. \nAll proceeds will help provide health services for community members in need. For more information on the White-Wilson Community Foundation and it’s work in the community\, visit www.whitewilsoncommunityfoundation.org. \nEarly registration is only $25 for adults and $20 for children. Week Of Registration is $30 for adults and $20 for children.  T-shirts are guaranteed for those registered by March 8\, 2020.  \nIf you are wishing to order a t-shirt\, but not participate in the race\, please select the “T-shirt Only” option. T-shirts are $15 each.  \nThe event is rain or shine. No refunds will be given.  \nEvent details and schedule\nRegistration \nOnline registration will end March 20\, 2020 at noon. You may also register for the event during packet pick-up. \nOR \nDay of registration will be available from 8 – 8:45 a.m. Race begins at 9 a.m. \nPacket Pick-Up \nPacket pick-up will be available on Friday\, March 20 from 4 – 6:30 p.m. at AJ’s Oyster Shanty. Stick around to take advantage of participant dinner and drink specials! \nParking \nParking is available across from AJ’s Oyster Shanty\, the gravel lot located behind Cash’s Liquor and in public parking areas along the street. Please be aware of tow zones on Amberjack Drive.  \nAccommodation \nYou can book your beachfront condo at Pelican Beach Resort
URL:https://www.destincondorent.com/event/8th-annual-run-for-health/
LOCATION:AJ’s Oyster Shanty\, 108 Santa Rosa Blvd\, Fort Walton Beach\, FL\, 32548
ATTACH;FMTTYPE=image/jpeg:https://www.destincondorent.com/wp-content/uploads/2020/02/run-for-the-health.jpg
END:VEVENT
END:VCALENDAR