BEGIN:VCALENDAR
VERSION:2.0
PRODID:-//Destin Condo Rentals - ECPv6.5.1//NONSGML v1.0//EN
CALSCALE:GREGORIAN
METHOD:PUBLISH
X-WR-CALNAME:Destin Condo Rentals
X-ORIGINAL-URL:https://www.destincondorent.com
X-WR-CALDESC:Events for Destin Condo Rentals
REFRESH-INTERVAL;VALUE=DURATION:PT1H
X-Robots-Tag:noindex
X-PUBLISHED-TTL:PT1H
BEGIN:VTIMEZONE
TZID:UTC
BEGIN:STANDARD
TZOFFSETFROM:+0000
TZOFFSETTO:+0000
TZNAME:UTC
DTSTART:20260101T000000
END:STANDARD
END:VTIMEZONE
BEGIN:VEVENT
DTSTART;TZID=UTC:20260606T090000
DTEND;TZID=UTC:20260606T130000
DTSTAMP:20260419T225817
CREATED:20260217T022301Z
LAST-MODIFIED:20260217T022301Z
UID:10000822-1780736400-1780750800@www.destincondorent.com
SUMMARY:Farmers' Market at Grand Boulevard
DESCRIPTION:Set in a scenic\, park-like setting with a fountain\, this beloved market is nestled in one of the Emerald Coast’s most beautiful coastal communities. Come stroll\, shop\, and soak in the charm every Saturday from 9AM–1PM.
URL:https://www.destincondorent.com/event/farmers-market-at-grand-boulevard/2026-06-06/
LOCATION:Grand Boulevard Grand Park\, 495 Grand Blvd\, Miramar Beach\, FL\, 32550
ATTACH;FMTTYPE=image/jpeg:https://www.destincondorent.com/wp-content/uploads/2026/02/31632-FarmersMarketVeggiesh-h.jpg
END:VEVENT
BEGIN:VEVENT
DTSTART;TZID=UTC:20260613T090000
DTEND;TZID=UTC:20260613T130000
DTSTAMP:20260419T225817
CREATED:20260217T022301Z
LAST-MODIFIED:20260217T022301Z
UID:10000823-1781341200-1781355600@www.destincondorent.com
SUMMARY:Farmers' Market at Grand Boulevard
DESCRIPTION:Set in a scenic\, park-like setting with a fountain\, this beloved market is nestled in one of the Emerald Coast’s most beautiful coastal communities. Come stroll\, shop\, and soak in the charm every Saturday from 9AM–1PM.
URL:https://www.destincondorent.com/event/farmers-market-at-grand-boulevard/2026-06-13/
LOCATION:Grand Boulevard Grand Park\, 495 Grand Blvd\, Miramar Beach\, FL\, 32550
ATTACH;FMTTYPE=image/jpeg:https://www.destincondorent.com/wp-content/uploads/2026/02/31632-FarmersMarketVeggiesh-h.jpg
END:VEVENT
BEGIN:VEVENT
DTSTART;TZID=UTC:20260620T090000
DTEND;TZID=UTC:20260620T130000
DTSTAMP:20260419T225817
CREATED:20260217T022301Z
LAST-MODIFIED:20260217T022301Z
UID:10000824-1781946000-1781960400@www.destincondorent.com
SUMMARY:Farmers' Market at Grand Boulevard
DESCRIPTION:Set in a scenic\, park-like setting with a fountain\, this beloved market is nestled in one of the Emerald Coast’s most beautiful coastal communities. Come stroll\, shop\, and soak in the charm every Saturday from 9AM–1PM.
URL:https://www.destincondorent.com/event/farmers-market-at-grand-boulevard/2026-06-20/
LOCATION:Grand Boulevard Grand Park\, 495 Grand Blvd\, Miramar Beach\, FL\, 32550
ATTACH;FMTTYPE=image/jpeg:https://www.destincondorent.com/wp-content/uploads/2026/02/31632-FarmersMarketVeggiesh-h.jpg
END:VEVENT
BEGIN:VEVENT
DTSTART;TZID=UTC:20260627T090000
DTEND;TZID=UTC:20260627T130000
DTSTAMP:20260419T225817
CREATED:20260217T022301Z
LAST-MODIFIED:20260217T022301Z
UID:10000825-1782550800-1782565200@www.destincondorent.com
SUMMARY:Farmers' Market at Grand Boulevard
DESCRIPTION:Set in a scenic\, park-like setting with a fountain\, this beloved market is nestled in one of the Emerald Coast’s most beautiful coastal communities. Come stroll\, shop\, and soak in the charm every Saturday from 9AM–1PM.
URL:https://www.destincondorent.com/event/farmers-market-at-grand-boulevard/2026-06-27/
LOCATION:Grand Boulevard Grand Park\, 495 Grand Blvd\, Miramar Beach\, FL\, 32550
ATTACH;FMTTYPE=image/jpeg:https://www.destincondorent.com/wp-content/uploads/2026/02/31632-FarmersMarketVeggiesh-h.jpg
END:VEVENT
BEGIN:VEVENT
DTSTART;TZID=UTC:20260628T150000
DTEND;TZID=UTC:20260628T203000
DTSTAMP:20260419T225817
CREATED:20230609T015547Z
LAST-MODIFIED:20240222T154424Z
UID:10000423-1782658800-1782678600@www.destincondorent.com
SUMMARY:Destin Commons Farmers Market
DESCRIPTION:Enjoy an open-air experience at the farmers market in Destin\, FL where you can discover the area’s best locally made goods. Shop fresh produce\, locally-grown flowers and plants\, delicious baked goods and vegan treats\, a vast selection of handmade artisan products and much more!  \nSupport Destin’s local small business community and join in the fun held at Destin Common’s Center Plaza. It’s a great place to gather and explore with family\, friends or your four-legged companion.
URL:https://www.destincondorent.com/event/destin-commons-farmers-market/2026-06-28/
LOCATION:Destin Commons and Events\, 4100 Legendary Dr\, Destin\, FL\, 32541\, United States
ATTACH;FMTTYPE=image/jpeg:https://www.destincondorent.com/wp-content/uploads/2023/06/3034_image_335139019_225703896664871_1937550685687795211_n.jpg
END:VEVENT
END:VCALENDAR