BEGIN:VCALENDAR
VERSION:2.0
PRODID:-//Destin Condo Rentals - ECPv6.5.1//NONSGML v1.0//EN
CALSCALE:GREGORIAN
METHOD:PUBLISH
X-WR-CALNAME:Destin Condo Rentals
X-ORIGINAL-URL:https://www.destincondorent.com
X-WR-CALDESC:Events for Destin Condo Rentals
REFRESH-INTERVAL;VALUE=DURATION:PT1H
X-Robots-Tag:noindex
X-PUBLISHED-TTL:PT1H
BEGIN:VTIMEZONE
TZID:UTC
BEGIN:STANDARD
TZOFFSETFROM:+0000
TZOFFSETTO:+0000
TZNAME:UTC
DTSTART:20200101T000000
END:STANDARD
END:VTIMEZONE
BEGIN:VEVENT
DTSTART;VALUE=DATE:20210702
DTEND;VALUE=DATE:20210705
DTSTAMP:20260425T171401
CREATED:20210617T034900Z
LAST-MODIFIED:20210808T143237Z
UID:10000104-1625184000-1625443199@www.destincondorent.com
SUMMARY:4th of July Celebration
DESCRIPTION:Let Freedom Ring with three days of Celebrations for July 4th at HarborWalk Village!\n \nFriday\, July 2nd | The Two Hoo Doos: 7:00PM\nSaturday\, July 3rd | 18 Miles Band: 7:00PM\nSunday\, July 4th | The Manly Hero: 7:00PM\nFireworks and Fire Spinning by Autumn Lyfe: 9:00PM\n \n**$10 On-site parking fee
URL:https://www.destincondorent.com/event/4th-of-july-celebration/
LOCATION:Harborwalk Village Events\, 10 Harbor Boulevard\, Destin\, FL\, 32541\, United States
ATTACH;FMTTYPE=image/jpeg:https://www.destincondorent.com/wp-content/uploads/2021/06/195293493_10158890089661329_4760970382669863718_n.jpg
END:VEVENT
BEGIN:VEVENT
DTSTART;TZID=UTC:20210624T183000
DTEND;TZID=UTC:20210624T210000
DTSTAMP:20260425T171401
CREATED:20210617T033211Z
LAST-MODIFIED:20210618T223018Z
UID:10000099-1624559400-1624568400@www.destincondorent.com
SUMMARY:All American Thursdays
DESCRIPTION:Hero Salute & Vintage Air Show: 6:30PM\nFireworks: 9:00PM\n \nCelebrate the USA with a one-of-a-kind vintage airshow\, hero salute\, live entertainment\, FIREWORKS\, and a fire spinning show!\n \n**$10 On-site parking fee
URL:https://www.destincondorent.com/event/all-american-thursday/
LOCATION:Harborwalk Village Events\, 10 Harbor Boulevard\, Destin\, FL\, 32541\, United States
ATTACH;FMTTYPE=image/jpeg:https://www.destincondorent.com/wp-content/uploads/2021/06/189285852_10158846429416329_8753337523000247275_n.jpg
END:VEVENT
BEGIN:VEVENT
DTSTART;TZID=UTC:20201213T180000
DTEND;TZID=UTC:20201213T220000
DTSTAMP:20260425T171401
CREATED:20201118T053828Z
LAST-MODIFIED:20210808T143440Z
UID:10000089-1607882400-1607896800@www.destincondorent.com
SUMMARY:34th Annual Destin Christmas Boat Parade
DESCRIPTION:The evening of Sunday Dec 13\, 2020 at 6pm\, boats of all sizes will be decorated and lit up for ALL to see along the Destin Harbor. Activities\, entertainment & public viewing along the Destin Harbor docks and the restaurants\, west of Grand Harbor Condominium. Judging at Margaritaville.\nFireworks finale at the end of the parade sponsored by Harborwalk Village. Awards after the fireworks at Margaritaville.\nBoat entry fee before Dec 1 $25.00.\nRegistration Tue-Sat 10-4 at\nThe Destin History and Fishing Museum. 108 Stahlman Ave behind Whataburger.
URL:https://www.destincondorent.com/event/destin-christmas-boat-parade/
LOCATION:210 Harbor Blvd\, 210 Harbor Blvd\, Destin\, FL\, 32541
ATTACH;FMTTYPE=image/jpeg:https://www.destincondorent.com/wp-content/uploads/2020/11/boat.jpg
END:VEVENT
BEGIN:VEVENT
DTSTART;TZID=UTC:20201128T180000
DTEND;TZID=UTC:20201128T210000
DTSTAMP:20260425T171401
CREATED:20201118T054040Z
LAST-MODIFIED:20201118T054040Z
UID:10000090-1606586400-1606597200@www.destincondorent.com
SUMMARY:Here Comes Santa Claus
DESCRIPTION:Get in the winter spirit with us during our Here Comes Santa event on November 28th. Cheer Santa on as he makes his way through Baytowne and watch as he lights our Village tree! Enjoy face-painting\, kids crafts\, and a beautiful fireworks display! 
URL:https://www.destincondorent.com/event/here-comes-santa-claus/
LOCATION:Baytowne Wharf\, 9300 Baytowne Wharf Blvd\, Miramar Beach\, FL\, 32550
ATTACH;FMTTYPE=image/jpeg:https://www.destincondorent.com/wp-content/uploads/2020/11/santa.jpg
END:VEVENT
BEGIN:VEVENT
DTSTART;TZID=UTC:20200703T170000
DTEND;TZID=UTC:20200703T220000
DTSTAMP:20260425T171401
CREATED:20200306T151615Z
LAST-MODIFIED:20230112T231402Z
UID:10000086-1593795600-1593813600@www.destincondorent.com
SUMMARY:Smoke on the Coast BBQ and Fireworks Festival
DESCRIPTION:The 9th Annual Smoke on the Coast BBQ & Fireworks Festival takes place Wednesday\, July 3 at Destin Commons and this year is expected to be bigger and better than ever! Family fun activities include live music and entertainment\, BBQ sampling\, face painting\, photo booth\, and the highly anticipated\, Independence Day firework extravaganza. Through the Destin Commons Coins for a Cause initiative\, 18 local charities team up with various restaurants and BBQ aficionados\, for over $85\,000 in donations. \n5:00 p.m.: Family entertainment and live music by Forrest Williams Band\n5:30 p.m.: BBQ lovers can enjoy $1 samples from 18 area restaurants and BBQ groups and vote for their favorite as People’s Choice winners.\n7:00 p.m.: Heritage Band performance\n9:30 p.m.: Independence Day firework extravaganza \nThis annual event may only be one day per year\, but collecting coins and organizing the most anticipated event of the Summer takes more than time\, it takes a village of yearly contributions raised by those in the local community who “plug the meters” at Destin Commons. \n“Smoke on the Coast has grown in participation and attendance over the years and we are excited to say that 2019 will be the best yet. Through the dedication of the nonprofits\, the support of our business sponsors\, and everyone remembering to plug the meters at Destin Commons\, we are able to give out over $85K at this annual event. We look forward to serving up some delicious BBQ\, great music and entertainment\, and friendly competition all in the spirit of charity on July 3rd!”\n– Heather Ruiz\, Senior Director of Marketing & Leasing at Destin Commons \nThe 18 non-profit organizations\, along with their BBQ teams\, are: \nAir Force Enlisted Village & The Gulf\nBoys and Girls Club & Big Red Truck\nChildren in Crisis & B&C Fire Safety\nDog Harmony & Cafe Rico\nEmerald Coast Science Center & Bow Tie BBQ\nFood for Thought & Paula Deen’s Family Kitchen\nGulf Coast Council of the Boy Scouts of America & The Pig in the Garden\nHabitat for Humanity & Hub City Smokehouse and Grill\nHeritage Museum of NW Florida & Cold Creek BBQ\nJobs4U & Lillie’s Q\nJunior League of the Emerald Coast & Buh’s BBQ\nNiceville/Valparasio Rotary Club & Smok’n Hot Wheels\nOpportunity Place & B’s Smoking BBQ\nRotary Club of Destin\nShelter House & The One and Culinary Pirates\nTaylor Haugen Foundation & Brightview Landscaping Services\nToys for Tots & Bass Pro Shop\nYouth Village & Waste Management
URL:https://www.destincondorent.com/event/smoke-coast-bbq-fireworks/
LOCATION:Destin Commons and Events\, 4100 Legendary Dr\, Destin\, FL\, 32541\, United States
ATTACH;FMTTYPE=image/jpeg:https://www.destincondorent.com/wp-content/uploads/2020/03/Destin-Commons-Smoke-on-the-Coast.jpg
END:VEVENT
END:VCALENDAR