BEGIN:VCALENDAR
VERSION:2.0
PRODID:-//Destin Condo Rentals - ECPv6.5.1//NONSGML v1.0//EN
CALSCALE:GREGORIAN
METHOD:PUBLISH
X-ORIGINAL-URL:https://www.destincondorent.com
X-WR-CALDESC:Events for Destin Condo Rentals
REFRESH-INTERVAL;VALUE=DURATION:PT1H
X-Robots-Tag:noindex
X-PUBLISHED-TTL:PT1H
BEGIN:VTIMEZONE
TZID:UTC
BEGIN:STANDARD
TZOFFSETFROM:+0000
TZOFFSETTO:+0000
TZNAME:UTC
DTSTART:20250101T000000
END:STANDARD
END:VTIMEZONE
BEGIN:VEVENT
DTSTART;TZID=UTC:20251204T180000
DTEND;TZID=UTC:20251204T200000
DTSTAMP:20260422T143619
CREATED:20251013T033232Z
LAST-MODIFIED:20251013T033232Z
UID:10000800-1764871200-1764878400@www.destincondorent.com
SUMMARY:City of Destin's Annual Tree Lighting
DESCRIPTION:The 39th annual Christmas Tree Lighting\, hosted by the City of Destin\, will be held at the Destin Community Center on Thursday\, December 4th\, 2025\, at 6pm. This will be an outdoor event for the entire family with a visit from Santa Claus and entertainment. Donations of one non-perishable food item will be collected for families in need.
URL:https://www.destincondorent.com/event/city-of-destins-annual-tree-lighting/
LOCATION:Destin Community Center\, 101 Stahlman Ave\, Destin\, FL\, 32541\, United States
ATTACH;FMTTYPE=image/jpeg:https://www.destincondorent.com/wp-content/uploads/2025/10/christmas-tree.jpg
END:VEVENT
END:VCALENDAR