BEGIN:VCALENDAR
VERSION:2.0
PRODID:-//Destin Condo Rentals - ECPv6.5.1//NONSGML v1.0//EN
CALSCALE:GREGORIAN
METHOD:PUBLISH
X-WR-CALNAME:Destin Condo Rentals
X-ORIGINAL-URL:https://www.destincondorent.com
X-WR-CALDESC:Events for Destin Condo Rentals
REFRESH-INTERVAL;VALUE=DURATION:PT1H
X-Robots-Tag:noindex
X-PUBLISHED-TTL:PT1H
BEGIN:VTIMEZONE
TZID:UTC
BEGIN:STANDARD
TZOFFSETFROM:+0000
TZOFFSETTO:+0000
TZNAME:UTC
DTSTART:20250101T000000
END:STANDARD
END:VTIMEZONE
BEGIN:VEVENT
DTSTART;VALUE=DATE:20251013
DTEND;VALUE=DATE:20251101
DTSTAMP:20260425T124923
CREATED:20251013T031439Z
LAST-MODIFIED:20251013T031439Z
UID:10000793-1760313600-1761955199@www.destincondorent.com
SUMMARY:77th Annual Destin Fishing Rodeo
DESCRIPTION:Let’s Go Fishing! Join us for the 77th Annual Destin Fishing Rodeo. Daily weigh-Ins are 10am – 7pm on the docks at AJ’s Seafood & Oyster Bar.\nThe Destin Fishing Rodeo is a non-profit organization supported by our members\, sponsors\, local businesses\, and the fishing community. Home to one of the largest fishing fleets in the world\, Destin offers some of the finest charter boats and the premier fishing rodeos of all.\nHow to participate: Private boats and Charter boats must register to enter the Rodeo at least 24 hours prior to weighing a fish. There is no entry fee for anglers on registered vessels. Shore fishermen can participate by just bringing their catch to the scale.– Fish aboard a registered Charter boat– Fish aboard a registered Private boat– Kayak fishing (registration required)– Paddle Board fishing (registration required)– Pier\, Bridge\, Jetty fishing (registration required)– Surf and Shoreline fishing (registration required)\nNot an angler? Not a problem! Daily weigh-ins take place every day from 10 AM – 7 PM at the docks at AJ’s Seafood & Oyster Bar. Come watch fishermen bring in the BIG ONE\, and meet Miss Destin and the Rodeo’s weighmaster\, Bruce Cheves.\nA fishing trip in the “Worlds Luckiest Fishing Village” promises a fresh catch every time. Fair winds and following seas!
URL:https://www.destincondorent.com/event/77th-annual-destin-fishing-rodeo/
LOCATION:Harborwalk Village Events\, 10 Harbor Boulevard\, Destin\, FL\, 32541\, United States
ATTACH;FMTTYPE=image/jpeg:https://www.destincondorent.com/wp-content/uploads/2022/04/destin-fishing-rodeo.jpg
END:VEVENT
END:VCALENDAR